BEGIN:VCALENDAR
VERSION:2.0
PRODID:-//RIGHTHERE//CALENDARIZE IT V3.2//EN
BEGIN:VTIMEZONE
TZID:Europe/Rome
BEGIN:STANDARD
DTSTART:20251026T010000
TZOFFSETFROM:+0200
TZOFFSETTO:+0100
TZNAME:CET
END:STANDARD
BEGIN:DAYLIGHT
DTSTART:20260329T010000
TZOFFSETFROM:+0100
TZOFFSETTO:+0200
TZNAME:CEST
END:DAYLIGHT
BEGIN:STANDARD
DTSTART:20261025T010000
TZOFFSETFROM:+0200
TZOFFSETTO:+0100
TZNAME:CET
END:STANDARD
END:VTIMEZONE
BEGIN:VEVENT
UID:11741-events@milano.federmanager.it
DTSTART;TZID=Europe/Rome:20210928T143000
DTEND;TZID=Europe/Rome:20210928T180000
DTSTAMP;TZID=Europe/Rome:20210924T154034
SUMMARY:Incontri coi candidati Sindaco di Milano: nuova data!
URL:https://milano.federmanager.it/events/incontri-coi-candidati-sindaco-di
 -milano-nuova-data/
LOCATION:On line
END:VEVENT
END:VCALENDAR