BEGIN:VCALENDAR
VERSION:2.0
PRODID:-//RIGHTHERE//CALENDARIZE IT V3.2//EN
BEGIN:VTIMEZONE
TZID:Europe/Rome
BEGIN:STANDARD
DTSTART:20251026T010000
TZOFFSETFROM:+0200
TZOFFSETTO:+0100
TZNAME:CET
END:STANDARD
BEGIN:DAYLIGHT
DTSTART:20260329T010000
TZOFFSETFROM:+0100
TZOFFSETTO:+0200
TZNAME:CEST
END:DAYLIGHT
BEGIN:STANDARD
DTSTART:20261025T010000
TZOFFSETFROM:+0200
TZOFFSETTO:+0100
TZNAME:CET
END:STANDARD
END:VTIMEZONE
BEGIN:VEVENT
UID:13812-events@milano.federmanager.it
DTSTART;TZID=Europe/Rome:20230124T183000
DTEND;TZID=Europe/Rome:20230124T190000
DTSTAMP;TZID=Europe/Rome:20230119T161618
SUMMARY:Incontro con il candidato alla presidenza di Regione Lombardia Atti
 lio Fontana
URL:https://milano.federmanager.it/events/incontro-con-il-candidato-attilio
 -fontana-alla-presidenza-di-regione-lombardia/
LOCATION:On line
END:VEVENT
END:VCALENDAR