BEGIN:VCALENDAR
VERSION:2.0
PRODID:-//RIGHTHERE//CALENDARIZE IT V3.2//EN
BEGIN:VTIMEZONE
TZID:Europe/Rome
BEGIN:STANDARD
DTSTART:20251026T010000
TZOFFSETFROM:+0200
TZOFFSETTO:+0100
TZNAME:CET
END:STANDARD
BEGIN:DAYLIGHT
DTSTART:20260329T010000
TZOFFSETFROM:+0100
TZOFFSETTO:+0200
TZNAME:CEST
END:DAYLIGHT
BEGIN:STANDARD
DTSTART:20261025T010000
TZOFFSETFROM:+0200
TZOFFSETTO:+0100
TZNAME:CET
END:STANDARD
END:VTIMEZONE
BEGIN:VEVENT
UID:14896-events@milano.federmanager.it
DTSTART;TZID=Europe/Rome:20231129T170000
DTEND;TZID=Europe/Rome:20231129T190000
DTSTAMP;TZID=Europe/Rome:20231113T155708
SUMMARY:Parliamo di Previdenza: evento sulle ultime novità previdenziali
URL:https://milano.federmanager.it/events/parliamo-di-previdenza-evento-sul
 le-ultime-novita-previdenziali/
LOCATION:Il Palazzo delle Stelline\, Corso Magenta\, 61\, 20123 Milano MI
END:VEVENT
END:VCALENDAR