BEGIN:VCALENDAR
VERSION:2.0
PRODID:-//RIGHTHERE//CALENDARIZE IT V3.2//EN
BEGIN:VTIMEZONE
TZID:Europe/Rome
BEGIN:STANDARD
DTSTART:20251026T010000
TZOFFSETFROM:+0200
TZOFFSETTO:+0100
TZNAME:CET
END:STANDARD
BEGIN:DAYLIGHT
DTSTART:20260329T010000
TZOFFSETFROM:+0100
TZOFFSETTO:+0200
TZNAME:CEST
END:DAYLIGHT
BEGIN:STANDARD
DTSTART:20261025T010000
TZOFFSETFROM:+0200
TZOFFSETTO:+0100
TZNAME:CET
END:STANDARD
END:VTIMEZONE
BEGIN:VEVENT
UID:16313-events@milano.federmanager.it
DTSTART;TZID=Europe/Rome:20241204T180000
DTEND;TZID=Europe/Rome:20241204T200000
DTSTAMP;TZID=Europe/Rome:20241121T094922
SUMMARY:Rinnovo CCNL – Incontro della Commissione Sindacale e Lavoro
URL:https://milano.federmanager.it/events/rinnovo-ccnl-incontro-della-commi
 ssione-sindacale-e-lavoro/
LOCATION:On line
END:VEVENT
END:VCALENDAR