BEGIN:VCALENDAR
VERSION:2.0
PRODID:-//RIGHTHERE//CALENDARIZE IT V3.2//EN
BEGIN:VTIMEZONE
TZID:Europe/Rome
BEGIN:STANDARD
DTSTART:20251026T010000
TZOFFSETFROM:+0200
TZOFFSETTO:+0100
TZNAME:CET
END:STANDARD
BEGIN:DAYLIGHT
DTSTART:20260329T010000
TZOFFSETFROM:+0100
TZOFFSETTO:+0200
TZNAME:CEST
END:DAYLIGHT
BEGIN:STANDARD
DTSTART:20261025T010000
TZOFFSETFROM:+0200
TZOFFSETTO:+0100
TZNAME:CET
END:STANDARD
END:VTIMEZONE
BEGIN:VEVENT
UID:16676-events@milano.federmanager.it
DTSTART;TZID=Europe/Rome:20250403T180000
DTEND;TZID=Europe/Rome:20250403T193000
DTSTAMP;TZID=Europe/Rome:20250319T133745
SUMMARY:Progetto Prevenzione: Disturbi del comportamento alimentare (DCA)
URL:https://milano.federmanager.it/events/progetto-prevenzione-disturbi-del
 -comportamento-alimentare-dca/
LOCATION:On line
END:VEVENT
END:VCALENDAR