BEGIN:VCALENDAR
VERSION:2.0
PRODID:-//RIGHTHERE//CALENDARIZE IT V3.2//EN
BEGIN:VTIMEZONE
TZID:Europe/Rome
BEGIN:STANDARD
DTSTART:20251026T010000
TZOFFSETFROM:+0200
TZOFFSETTO:+0100
TZNAME:CET
END:STANDARD
BEGIN:DAYLIGHT
DTSTART:20260329T010000
TZOFFSETFROM:+0100
TZOFFSETTO:+0200
TZNAME:CEST
END:DAYLIGHT
BEGIN:STANDARD
DTSTART:20261025T010000
TZOFFSETFROM:+0200
TZOFFSETTO:+0100
TZNAME:CET
END:STANDARD
END:VTIMEZONE
BEGIN:VEVENT
UID:17955-events@milano.federmanager.it
DTSTART;TZID=Europe/Rome:20260428T143000
DTEND;TZID=Europe/Rome:20260428T163000
DTSTAMP;TZID=Europe/Rome:20260327T090726
SUMMARY:Volontari per il Sociale – A scuola di futuro: perché gli ITS so
 no la scelta vincente
URL:https://milano.federmanager.it/events/volontari-per-il-sociale-a-scuola
 -di-futuro-perche-gli-its-sono-la-scelta-vincente/
END:VEVENT
END:VCALENDAR