BEGIN:VCALENDAR
VERSION:2.0
PRODID:-//RIGHTHERE//CALENDARIZE IT V3.2//EN
BEGIN:VTIMEZONE
TZID:Europe/Rome
BEGIN:STANDARD
DTSTART:20251026T010000
TZOFFSETFROM:+0200
TZOFFSETTO:+0100
TZNAME:CET
END:STANDARD
BEGIN:DAYLIGHT
DTSTART:20260329T010000
TZOFFSETFROM:+0100
TZOFFSETTO:+0200
TZNAME:CEST
END:DAYLIGHT
BEGIN:STANDARD
DTSTART:20261025T010000
TZOFFSETFROM:+0200
TZOFFSETTO:+0100
TZNAME:CET
END:STANDARD
END:VTIMEZONE
BEGIN:VEVENT
UID:18001-events@milano.federmanager.it
DTSTART;TZID=Europe/Rome:20260511T173000
DTEND;TZID=Europe/Rome:20260511T190000
DTSTAMP;TZID=Europe/Rome:20260401T132945
SUMMARY:Terapie digitali: la nuova sfida manageriale fra farmaceutico e med
 tech
URL:https://milano.federmanager.it/events/terapie-digitali-la-nuova-sfida-m
 anageriale-fra-farmaceutico-e-medtech/
LOCATION:Via Larga 31\, 20122 Milano MI
END:VEVENT
END:VCALENDAR