BEGIN:VCALENDAR
VERSION:2.0
PRODID:-//RIGHTHERE//CALENDARIZE IT V3.2//EN
BEGIN:VTIMEZONE
TZID:Europe/Rome
BEGIN:STANDARD
DTSTART:20251026T010000
TZOFFSETFROM:+0200
TZOFFSETTO:+0100
TZNAME:CET
END:STANDARD
BEGIN:DAYLIGHT
DTSTART:20260329T010000
TZOFFSETFROM:+0100
TZOFFSETTO:+0200
TZNAME:CEST
END:DAYLIGHT
BEGIN:STANDARD
DTSTART:20261025T010000
TZOFFSETFROM:+0200
TZOFFSETTO:+0100
TZNAME:CET
END:STANDARD
END:VTIMEZONE
BEGIN:VEVENT
UID:9086-events@milano.federmanager.it
DTSTART;TZID=Europe/Rome:20200528T113000
DTEND;TZID=Europe/Rome:20200528T130000
DTSTAMP;TZID=Europe/Rome:20200305T185504
SUMMARY:Milano Digital Week – Open Innovation e 5G – le opportunità de
 lle nuove tecnologie abilitanti per aziende e manager
URL:https://milano.federmanager.it/events/milano-digital-week-open-innovati
 on-e-5g-le-opportunita-delle-nuove-tecnologie-abilitanti-per-aziende-e-man
 ager/
LOCATION:On line
END:VEVENT
END:VCALENDAR