BEGIN:VCALENDAR
VERSION:2.0
PRODID:-//RIGHTHERE//CALENDARIZE IT V3.2//EN
BEGIN:VTIMEZONE
TZID:Europe/Rome
BEGIN:STANDARD
DTSTART:20251026T010000
TZOFFSETFROM:+0200
TZOFFSETTO:+0100
TZNAME:CET
END:STANDARD
BEGIN:DAYLIGHT
DTSTART:20260329T010000
TZOFFSETFROM:+0100
TZOFFSETTO:+0200
TZNAME:CEST
END:DAYLIGHT
BEGIN:STANDARD
DTSTART:20261025T010000
TZOFFSETFROM:+0200
TZOFFSETTO:+0100
TZNAME:CET
END:STANDARD
END:VTIMEZONE
BEGIN:VEVENT
UID:9090-events@milano.federmanager.it
DTSTART;TZID=Europe/Rome:20200527T143000
DTEND;TZID=Europe/Rome:20200527T170000
DTSTAMP;TZID=Europe/Rome:20200325T111001
SUMMARY:Milano Digital Week – Pillole formative di sviluppo sostenibile p
 er i giovani nelle scuole
URL:https://milano.federmanager.it/events/milano-digital-week-pillole-forma
 tive-di-sviluppo-sostenibile-per-i-giovani-nelle-scuole/
LOCATION:On line
END:VEVENT
END:VCALENDAR